BEGIN:VCALENDAR
VERSION:2.0
PRODID:-//Tukios.com/
BEGIN:VEVENT
UID:26d18b72-8816-47dc-bf15-647857c6e47c@www.wellmanfuneralhomes.com
DTSTAMP:20260422T190714Z
DTSTART:20260502T140000Z
DTEND:20260502T150000Z
SUMMARY:Celebration of Life
DESCRIPTION:
URL:https://www.wellmanfuneralhomes.com/obituaries/timothy-mcginnis
LOCATION: 7766 Stoutsville Pike  Circleville OH 43113
GEO:39.6045273;-82.8841805
END:VEVENT
END:VCALENDAR