BEGIN:VCALENDAR
VERSION:2.0
PRODID:-//Tukios.com/
BEGIN:VEVENT
UID:d80a9a4d-a155-4975-a76c-22b1fceb65e7@www.wellmanfuneralhomes.com
DTSTAMP:20260422T190253Z
DTSTART:20260502T130000Z
DTEND:20260502T140000Z
SUMMARY:Visitation
DESCRIPTION:
URL:https://www.wellmanfuneralhomes.com/obituaries/timothy-mcginnis
LOCATION:New Life Church 7766 Stoutsville Pike  Circleville OH 43113
GEO:39.6045273;-82.8841805
END:VEVENT
END:VCALENDAR