BEGIN:VCALENDAR
VERSION:2.0
PRODID:-//Tukios.com/
BEGIN:VEVENT
UID:d3d66000-ec83-4625-9be0-b7ae4a89536b@www.wellmanfuneralhomes.com
DTSTAMP:20260425T184050Z
DTSTART:20260428T160000Z
DTEND:20260428T170000Z
SUMMARY:Funeral Service
DESCRIPTION:
URL:https://www.wellmanfuneralhomes.com/obituaries/rose-thress
LOCATION:Wellman Funeral Home 1455 North Court Street  Circleville OH 
	43113
GEO:39.6272827;-82.9436152
END:VEVENT
END:VCALENDAR