BEGIN:VCALENDAR
VERSION:2.0
PRODID:-//Tukios.com/
BEGIN:VEVENT
UID:af2cd3b3-867b-4433-b20e-813f3471c4cc@www.wellmanfuneralhomes.com
DTSTAMP:20260425T184050Z
DTSTART:20260428T140000Z
DTEND:20260428T160000Z
SUMMARY:Visitation
DESCRIPTION:
URL:https://www.wellmanfuneralhomes.com/obituaries/rose-thress
LOCATION:Wellman Funeral Home 1455 North Court Street  Circleville OH 
	43113
GEO:39.6272827;-82.9436152
END:VEVENT
END:VCALENDAR