BEGIN:VCALENDAR
VERSION:2.0
PRODID:-//Tukios.com/
BEGIN:VEVENT
UID:488e1df8-053b-4245-b104-b77cefe28386@www.wellmanfuneralhomes.com
DTSTAMP:20260423T200805Z
DTSTART:20260429T160000Z
DTEND:20260429T170000Z
SUMMARY:Funeral Service
DESCRIPTION:
URL:https://www.wellmanfuneralhomes.com/obituaries/danny-largent
LOCATION:Wellman Funeral Home 1455 North Court Street  Circleville OH 
	43113
GEO:39.6272827;-82.9436152
END:VEVENT
END:VCALENDAR