BEGIN:VCALENDAR
VERSION:2.0
PRODID:-//Tukios.com/
BEGIN:VEVENT
UID:79da52b8-2cae-44af-a1b6-3e834b56b9b6@www.wellmanfuneralhomes.com
DTSTAMP:20260423T200846Z
DTSTART:20260429T140000Z
DTEND:20260429T160000Z
SUMMARY:Visitation
DESCRIPTION:
URL:https://www.wellmanfuneralhomes.com/obituaries/danny-largent
LOCATION:Wellman Funeral Home 1455 North Court Street  Circleville OH 
	43113
GEO:39.6272827;-82.9436152
END:VEVENT
END:VCALENDAR