BEGIN:VCALENDAR
VERSION:2.0
PRODID:-//Tukios.com/
BEGIN:VEVENT
UID:9bedcf70-ceaa-4138-bdcc-0c6c652e266b@www.wellmanfuneralhomes.com
DTSTAMP:20260423T200632Z
DTSTART:20260424T170000Z
DTEND:20260424T180000Z
SUMMARY:Graveside Service
DESCRIPTION:
URL:https://www.wellmanfuneralhomes.com/obituaries/angela-penix
LOCATION:Forest Cemetery 905 North Court Street  Circleville OH 43113
GEO:39.6153395;-82.9401775
END:VEVENT
END:VCALENDAR